0.5
0
0
-0.5
576948.297122439
4710424.03653063
