0.5
0
0
-0.5
583792.151258756
4710504.89396981
