0.5
0
0
-0.5
580397.499977949
4708150.38645536
