0.5
0
0
-0.5
611092.577678884
4715522.06023936
