0.5
0
0
-0.5
597446.877359201
4712999.99526994
