0.5
0
0
-0.5
631566.739766112
4718199.30364281
