0.5
0
0
-0.5
556474.415892748
4703283.02100629
