0.5
0
0
-0.5
559940.590223927
4698685.90514417
