0.5
0
0
-0.5
590758.675483732
4701339.67484315
