0.5
0
0
-0.5
590942.29931451
4687460.70825485
