0.5
0
0
-0.5
604675.511406339
4687655.80733585
