0.5
0
0
-0.5
618725.53606395
4669372.46079984
