0.5
0
0
-0.5
594660.314506391
4666688.84763091
