0.5
0
0
-0.5
619001.672699173
4653180.90687218
