0.5
0
0
-0.5
622370.930331683
4657866.64959098
