0.5
0
0
-0.5
632803.222630424
4653429.21781602
