1
0
0
-1
573276.406059787
4728969.93744969
