1
0
0
-1
566775.772467105
4696512.1807262
