1
0
0
-1
607927.647337609
4697047.35828824
