1
0
0
-1
655834.824369188
4702604.05986691
