2.5
0
0
-2.5
593724.978663274
4724788.26468849
