2.5
0
0
-2.5
580289.729355933
4706097.11848754
