2.5
0
0
-2.5
594127.250626812
4697029.56516471
