0.5
0
0
-0.5
583278.55252628
4752145.03115344
