0.5
0
0
-0.5
593354.205420008
4761532.59331964
