0.5
0
0
-0.5
596751.030460106
4761580.61839716
