0.5
0
0
-0.5
610376.23517337
4759476.04684774
