0.5
0
0
-0.5
596817.639740437
4756953.69377939
