0.5
0
0
-0.5
644356.616644715
4760115.56854653
