0.5
0
0
-0.5
627540.52459942
4750521.24454675
