0.5
0
0
-0.5
671598.053813983
4758436.13083865
