0.5
0
0
-0.5
661511.245292217
4753559.02363887
