0.5
0
0
-0.5
678457.488365391
4756298.22919643
