0.5
0
0
-0.5
559695.273853457
4726444.6939777
