0.5
0
0
-0.5
569937.262138709
4726542.97102867
