0.5
0
0
-0.5
614085.632860334
4741025.05271561
