0.5
0
0
-0.5
627844.736048919
4734327.70580605
