0.5
0
0
-0.5
671949.492467348
4744555.9927143
