0.5
0
0
-0.5
672008.065044701
4742242.6210462
