0.5
0
0
-0.5
648459.693043882
4727802.55197197
