0.5
0
0
-0.5
552976.497807554
4712508.24560937
