0.5
0
0
-0.5
563260.590454566
4710282.69107805
