0.5
0
0
-0.5
553012.847959613
4707881.80357531
