0.5
0
0
-0.5
556435.943074757
4707909.34314231
