0.5
0
0
-0.5
569985.094948289
4721916.31155756
