0.5
0
0
-0.5
607745.698880317
4710840.75923935
