0.5
0
0
-0.5
624729.371253872
4718071.22498598
