0.5
0
0
-0.5
553030.9532321
4705568.64627492
