0.5
0
0
-0.5
577104.925255554
4696544.90059466
