0.5
0
0
-0.5
600969.98398956
4706109.9210472
